BEGIN:VCALENDAR
VERSION:2.0
PRODID:-//ABRH-SP - ECPv6.15.20//NONSGML v1.0//EN
CALSCALE:GREGORIAN
METHOD:PUBLISH
X-WR-CALNAME:ABRH-SP
X-ORIGINAL-URL:https://abrhsp.org.br
X-WR-CALDESC:Eventos para ABRH-SP
REFRESH-INTERVAL;VALUE=DURATION:PT1H
X-Robots-Tag:noindex
X-PUBLISHED-TTL:PT1H
BEGIN:VTIMEZONE
TZID:America/Sao_Paulo
BEGIN:STANDARD
TZOFFSETFROM:-0300
TZOFFSETTO:-0300
TZNAME:-03
DTSTART:20230101T000000
END:STANDARD
END:VTIMEZONE
BEGIN:VEVENT
DTSTART;TZID=America/Sao_Paulo:20240520T090000
DTEND;TZID=America/Sao_Paulo:20240520T160000
DTSTAMP:20260422T192911
CREATED:20240510T131748Z
LAST-MODIFIED:20240722T150208Z
UID:42388-1716195600-1716220800@abrhsp.org.br
SUMMARY:FÓRUM DE SAÚDE E BEM-ESTAR “EQUILÍBRIO E SAÚDE MENTAL EM RH – CUIDAR DE MIM PARA CUIDAR DOS OUTROS”
DESCRIPTION:No dia do profissional de RH: convidamos vocês a participarem e entenderem a importância do cuidado com a saúde mental\, tema central do nosso Fórum da Saúde e Bem-Estar de 2024.
URL:https://abrhsp.org.br/agenda/forum-de-saude-e-bem-estar-equilibrio-e-saude-mental-em-rh-cuidar-de-mim-para-cuidar-dos-outros/
LOCATION:Youtube – @abrhsp1\, https://www.youtube.com/c/abrhsp1/featured\, Brasil
CATEGORIES:ABRH-SP
ATTACH;FMTTYPE=image/png:https://abrhsp.org.br/wp-content/uploads/2024/05/forum-de-saude-e-bem-estar-equilibrio-e-saude-mental-em-rh-cuidar-de-mim-para-cuidar-dos-outros.png
END:VEVENT
END:VCALENDAR