BEGIN:VCALENDAR
VERSION:2.0
PRODID:-//ABRH-SP - ECPv6.15.20//NONSGML v1.0//EN
CALSCALE:GREGORIAN
METHOD:PUBLISH
X-ORIGINAL-URL:https://abrhsp.org.br
X-WR-CALDESC:Eventos para ABRH-SP
REFRESH-INTERVAL;VALUE=DURATION:PT1H
X-Robots-Tag:noindex
X-PUBLISHED-TTL:PT1H
BEGIN:VTIMEZONE
TZID:America/Sao_Paulo
BEGIN:STANDARD
TZOFFSETFROM:-0300
TZOFFSETTO:-0300
TZNAME:-03
DTSTART:20230101T000000
END:STANDARD
END:VTIMEZONE
BEGIN:VEVENT
DTSTART;TZID=America/Sao_Paulo:20241009T080000
DTEND;TZID=America/Sao_Paulo:20241009T103000
DTSTAMP:20260422T094047
CREATED:20240625T193609Z
LAST-MODIFIED:20240625T193609Z
UID:42696-1728460800-1728469800@abrhsp.org.br
SUMMARY:Palestra especial
DESCRIPTION:Em breve mais informações.
URL:https://abrhsp.org.br/agenda/palestra-especial/
LOCATION:A Definir\, Brasil
CATEGORIES:ABRH-SP
END:VEVENT
BEGIN:VEVENT
DTSTART;TZID=America/Sao_Paulo:20241016T080000
DTEND;TZID=America/Sao_Paulo:20241016T100000
DTSTAMP:20260422T094047
CREATED:20240625T194052Z
LAST-MODIFIED:20240625T194052Z
UID:42702-1729065600-1729072800@abrhsp.org.br
SUMMARY:Masterclass - ABRH-SP
DESCRIPTION:Em breve mais informações.
URL:https://abrhsp.org.br/agenda/masterclass-abrh-sp/
LOCATION:A Definir\, Brasil
CATEGORIES:ABRH-SP
END:VEVENT
BEGIN:VEVENT
DTSTART;TZID=America/Sao_Paulo:20241024T080000
DTEND;TZID=America/Sao_Paulo:20241025T180000
DTSTAMP:20260422T094047
CREATED:20240313T152425Z
LAST-MODIFIED:20240313T152425Z
UID:41762-1729756800-1729879200@abrhsp.org.br
SUMMARY:4ºCHRO FÓRUM
DESCRIPTION:Em breve mais informações.\n 
URL:https://abrhsp.org.br/agenda/4ochro-forum/
LOCATION:A Definir\, Brasil
CATEGORIES:ABRH-SP,Eventos Especiais,FÓRUM
END:VEVENT
END:VCALENDAR