BEGIN:VCALENDAR
VERSION:2.0
PRODID:-//ABRH-SP - ECPv6.15.20//NONSGML v1.0//EN
CALSCALE:GREGORIAN
METHOD:PUBLISH
X-WR-CALNAME:ABRH-SP
X-ORIGINAL-URL:https://abrhsp.org.br
X-WR-CALDESC:Eventos para ABRH-SP
REFRESH-INTERVAL;VALUE=DURATION:PT1H
X-Robots-Tag:noindex
X-PUBLISHED-TTL:PT1H
BEGIN:VTIMEZONE
TZID:America/Sao_Paulo
BEGIN:STANDARD
TZOFFSETFROM:-0300
TZOFFSETTO:-0300
TZNAME:-03
DTSTART:20240101T000000
END:STANDARD
END:VTIMEZONE
BEGIN:VEVENT
DTSTART;TZID=America/Sao_Paulo:20250204T150000
DTEND;TZID=America/Sao_Paulo:20250204T190000
DTSTAMP:20260422T014436
CREATED:20241217T145243Z
LAST-MODIFIED:20250123T161202Z
UID:45391-1738681200-1738695600@abrhsp.org.br
SUMMARY:Prêmio Ser Humano
DESCRIPTION:  \n \nO prêmio Ser Humano visa reconhecer o papel crucial desempenhado pelos profissionais de RH\, por meio da premiação de profissionais de RH que demonstraram liderança\, inovação e impacto excepcional em suas organizações. \nAlém de celebrar as melhores práticas em gestão de pessoas\, esse evento histórico marcará a posse da nova diretoria da ABRH-SP. Uma combinação perfeita para inspirar e conectar os profissionais da área.
URL:https://abrhsp.org.br/agenda/premio-ser-humano/
LOCATION:Espaço Sociocultural – Teatro CIEE\, Rua Tabapuã\, 445 - Itaim Bibi\, São Paulo\, São Paulo\, 04533-011\, Brasil
CATEGORIES:ABRH-SP,Prêmio Ser Humano
ATTACH;FMTTYPE=image/png:https://abrhsp.org.br/wp-content/uploads/2024/12/midia-kit-1.png
END:VEVENT
BEGIN:VEVENT
DTSTART;TZID=America/Sao_Paulo:20250220T090000
DTEND;TZID=America/Sao_Paulo:20250220T110000
DTSTAMP:20260422T014436
CREATED:20250214T195213Z
LAST-MODIFIED:20250214T195250Z
UID:46113-1740042000-1740049200@abrhsp.org.br
SUMMARY:Evento de Abertura dos Grupos de Estudos ABRH-SP 2025
DESCRIPTION:Participe do nosso evento de Abertura dos Grupos de Estudos ABRH-SP 2025! \nOs Grupos de Estudos da ABRH-SP proporcionam um ambiente seguro e dinâmico\, onde profissionais se conectam para trocar conhecimentos\, vivências e boas práticas. Em 2025\, nós contaremos com 15 temas atuais\, separados por 3 eixos centrais: Lideranças\, Skills Comportamentais e Core de RH. \nNós organizamos um momento especial para o lançamento dos grupos desse semestre! Com a participação de nossa Presidente (Lia Aere)\, nosso Diretor de Conhecimento (Cesar Bresciani) e as 3 líderes dos Grupos de Estudo (Fatima Farias\, Katia Zuffo e Karen Monterlei). \nTeremos uma conversa com Fernando Barra sobre inteligência ampliada – como humano une sua inteligência com IA para desenvolver novas habilidades. Processo provocativo sobre a evolução humana e como a interação com IA pode expandir essa capacidade dos seres humanos. Homem\, tecnologia e trabalho. \nCom 25 anos de experiência em tecnologia e inovação\, Fernando já passou por empresas como Cognos e IBM\, fundou a Skillplace\, é professor na Link School of Business\, autor do livro “Meu Emprego Sumiu” e colunista na Nova Brasil FM.
URL:https://abrhsp.org.br/agenda/evento-de-abertura-dos-grupos-de-estudos-abrh-sp-2025/
LOCATION:Evento Online
CATEGORIES:ABRH-SP
ATTACH;FMTTYPE=image/png:https://abrhsp.org.br/wp-content/uploads/2025/02/sympla.png
END:VEVENT
END:VCALENDAR