BEGIN:VCALENDAR
VERSION:2.0
PRODID:-//ABRH-SP - ECPv6.15.20//NONSGML v1.0//EN
CALSCALE:GREGORIAN
METHOD:PUBLISH
X-WR-CALNAME:ABRH-SP
X-ORIGINAL-URL:https://abrhsp.org.br
X-WR-CALDESC:Eventos para ABRH-SP
REFRESH-INTERVAL;VALUE=DURATION:PT1H
X-Robots-Tag:noindex
X-PUBLISHED-TTL:PT1H
BEGIN:VTIMEZONE
TZID:America/Sao_Paulo
BEGIN:STANDARD
TZOFFSETFROM:-0300
TZOFFSETTO:-0300
TZNAME:-03
DTSTART:20240101T000000
END:STANDARD
END:VTIMEZONE
BEGIN:VEVENT
DTSTART;TZID=America/Sao_Paulo:20250603T083000
DTEND;TZID=America/Sao_Paulo:20250603T120000
DTSTAMP:20260421T181153
CREATED:20250409T130255Z
LAST-MODIFIED:20250409T130255Z
UID:47032-1748939400-1748952000@abrhsp.org.br
SUMMARY:[Exclusivo para convidados] CHRO Exchange: Marketplace de talentos (Roche)
DESCRIPTION:No dia 03/06 (quinta-feira)\, das 08h30 às 12h00\, a ABRH-SP terá a 9ª edição do CHRO Exchange na Roche. \nNão perca esta oportunidade de participar de uma manhã enriquecedora e de troca de experiências!
URL:https://abrhsp.org.br/agenda/exclusivo-para-convidados-chro-exchange-marketplace-de-talentos-roche/
CATEGORIES:ABRH-SP
END:VEVENT
BEGIN:VEVENT
DTSTART;TZID=America/Sao_Paulo:20250610T170000
DTEND;TZID=America/Sao_Paulo:20250610T183000
DTSTAMP:20260421T181153
CREATED:20250603T195231Z
LAST-MODIFIED:20250603T195231Z
UID:47281-1749574800-1749580200@abrhsp.org.br
SUMMARY:Live: Por dentro do Prêmio Ser Humano ABRH-SP: Tudo o que você precisa saber para participar da edição 2025
DESCRIPTION:
URL:https://abrhsp.org.br/agenda/live-por-dentro-do-premio-ser-humano-abrh-sp-tudo-o-que-voce-precisa-saber-para-participar-da-edicao-2025/
LOCATION:Youtube – @abrhsp1\, https://www.youtube.com/c/abrhsp1/featured\, Brasil
CATEGORIES:ABRH-SP,Eventos
ATTACH;FMTTYPE=image/png:https://abrhsp.org.br/wp-content/uploads/2025/06/sympla.png
END:VEVENT
BEGIN:VEVENT
DTSTART;TZID=America/Sao_Paulo:20250617T080000
DTEND;TZID=America/Sao_Paulo:20250617T160000
DTSTAMP:20260421T181153
CREATED:20250307T152937Z
LAST-MODIFIED:20250516T231110Z
UID:46302-1750147200-1750176000@abrhsp.org.br
SUMMARY:10ª Edição Life - Liderança feminina no centro da transformação social e econômica
DESCRIPTION:Um dos maiores eventos de Liderança Feminina do mercado\, o Congresso LIFE – Liderança Feminina em Movimento\,\nfoi criado pela ABRH-SP em 2016\, e desde então traz discussões sobre desafios e tendências mundiais como\nequidade\, falta de representatividade\, barreiras estruturais\, equilíbrio entre vida pessoal e profissional\,\nentre outros assuntos relevantes. \nUm encontro cheio de conteúdo e networking com um propósito\, a Liderança Feminina em Movimento. \nPara a 10ª edição\, trazemos como tema central “Liderança feminina no centro\nda transformação social e econômica”.
URL:https://abrhsp.org.br/agenda/em-breve-10a-edicao-do-life/
LOCATION:Espaço Sociocultural – Teatro CIEE\, Rua Tabapuã\, 445 - Itaim Bibi\, São Paulo\, São Paulo\, 04533-011\, Brasil
CATEGORIES:ABRH-SP,CONGRESSO,Eventos Especiais,LIDERANÇA FEMININA
ATTACH;FMTTYPE=image/png:https://abrhsp.org.br/wp-content/uploads/2025/03/banner-01.png
END:VEVENT
BEGIN:VEVENT
DTSTART;TZID=America/Sao_Paulo:20250624T160000
DTEND;TZID=America/Sao_Paulo:20250624T170000
DTSTAMP:20260421T181153
CREATED:20250618T181220Z
LAST-MODIFIED:20250618T181220Z
UID:47314-1750780800-1750784400@abrhsp.org.br
SUMMARY:Webinar: Etarismo e Seus Impactos na Comunidade LGBTQIAPN+
DESCRIPTION:Neste bate-papo promovido pela ABRH-SP\, vamos refletir sobre como o etarismo se manifesta dentro e fora da comunidade LGBTQIAPN+\, quais os desafios enfrentados por pessoas LGBTQIAPN+ ao longo da vida e como podemos promover ambientes mais inclusivos\, respeitando a diversidade etária em sua totalidade. \nConvidados: \n\nFabi Granzotti – Especialista em Diversidade Etária\, Etarismo e Longevidade\nEdson Lopes – Gerente Sênior Global de Desenvolvimento de Liderança na Yara International e Voluntário da ONG Eternamente Sou\, dedicada à população LGBTQIAPN+ 50+\nModeração: Gabriela Augusto – Diretora Fundadora da Transcendemos Consultoria
URL:https://abrhsp.org.br/agenda/webinar-etarismo-e-seus-impactos-na-comunidade-lgbtqiapn/
LOCATION:Youtube – @abrhsp1\, https://www.youtube.com/c/abrhsp1/featured\, Brasil
CATEGORIES:ABRH-SP
ATTACH;FMTTYPE=image/png:https://abrhsp.org.br/wp-content/uploads/2025/06/sympla-1.png
END:VEVENT
END:VCALENDAR