BEGIN:VCALENDAR
VERSION:2.0
PRODID:-//ABRH-SP - ECPv6.15.20//NONSGML v1.0//EN
CALSCALE:GREGORIAN
METHOD:PUBLISH
X-ORIGINAL-URL:https://abrhsp.org.br
X-WR-CALDESC:Eventos para ABRH-SP
REFRESH-INTERVAL;VALUE=DURATION:PT1H
X-Robots-Tag:noindex
X-PUBLISHED-TTL:PT1H
BEGIN:VTIMEZONE
TZID:America/Sao_Paulo
BEGIN:STANDARD
TZOFFSETFROM:-0300
TZOFFSETTO:-0300
TZNAME:-03
DTSTART:20240101T000000
END:STANDARD
END:VTIMEZONE
BEGIN:VEVENT
DTSTART;TZID=America/Sao_Paulo:20250813T083000
DTEND;TZID=America/Sao_Paulo:20250813T110000
DTSTAMP:20260421T143457
CREATED:20250806T213933Z
LAST-MODIFIED:20250806T213933Z
UID:47819-1755073800-1755082800@abrhsp.org.br
SUMMARY:Encontro com Líderes de RH na ABRH-SP: NR1 - Status e programas de saúde psicológica/Bem-estar e benefícios
DESCRIPTION:Convite Especial: Encontro com Líderes de RH na ABRH-SP: NR1 – Status e programas de saúde psicológica/Bem-estar e benefícios \nA ABRH-SP convida você para um encontro exclusivo com líderes de Recursos Humanos\, que reunirá nomes de grande relevância no cenário da saúde corporativa e da saúde mental no trabalho. \nData: 13 de agostoHorário: 8h30 às 11H00Local: Sede da ABRH-SP \nNeste encontro\, teremos a presença de dois especialistas de destaque: \n\nDr. Marcos C. BaptistaEspecialista em medicina do trabalho e pneumologia\, com sólida atuação em gestão da saúde corporativa e mais de 30 anos de experiência em grandes empresas como Itaú\, Bradesco e Sírio-Libanês.\nAndré FuscoMédico-psicanalista\, pioneiro da Ergonomia Mental no Brasil e fundador da Fusco Saúde Mental\, com mais de 20 anos de atuação em grandes marcas como Honda\, Pepsico\, Bayer e Heineken.\n\nSerá uma manhã de insights profundos\, troca de experiências e reflexões sobre como promover ambientes de trabalho mais saudáveis\, produtivos e sustentáveis. \n\nVagas limitadas. Garanta sua participação! Exclusivo para membros do Grupo de Líderes
URL:https://abrhsp.org.br/agenda/encontro-com-lideres-de-rh-na-abrh-sp-nr1-status-e-programas-de-saude-psicologica-bem-estar-e-beneficios/
LOCATION:Sede da ABRH-SP\, Avenida Engenheiro Luiz Carlos Berrini\, 1297 - Cj. 92 - Cidade Monções\, São Paulo\, São Paulo\, 04571-010\, Brasil
CATEGORIES:ABRH-SP
ATTACH;FMTTYPE=image/png:https://abrhsp.org.br/wp-content/uploads/2025/08/sympla.png
END:VEVENT
BEGIN:VEVENT
DTSTART;TZID=America/Sao_Paulo:20250815T083000
DTEND;TZID=America/Sao_Paulo:20250815T120000
DTSTAMP:20260421T143457
CREATED:20250717T192233Z
LAST-MODIFIED:20250717T194735Z
UID:47746-1755246600-1755259200@abrhsp.org.br
SUMMARY:[Exclusivo para Convidados] Café PJ Premium: A Tecnologia como Aliada na Saúde e Bem-Estar dos Colaboradores
DESCRIPTION:*Evento Exclusivo para PJ Premium* \nVocê é nosso convidado para mais uma edição do Café PJ Premium\, um encontro pensado para quem busca soluções inovadoras e práticas para os desafios da gestão de pessoas. \nNesta edição\, vamos conversar sobre como a tecnologia pode ser uma aliada poderosa na promoção da saúde física\, mental e emocional dos colaboradores\, contribuindo diretamente para ambientes mais saudáveis\, engajados e produtivos. Será um momento de troca\, networking e insights valiosos — tudo isso acompanhado de um bom café
URL:https://abrhsp.org.br/agenda/exclusivo-cafe-pj-premium-a-tecnologia-como-aliada-na-saude-e-bem-estar-dos-colaboradores/
LOCATION:Sede da ABRH-SP\, Avenida Engenheiro Luiz Carlos Berrini\, 1297 - Cj. 92 - Cidade Monções\, São Paulo\, São Paulo\, 04571-010\, Brasil
CATEGORIES:ABRH-SP
ATTACH;FMTTYPE=image/png:https://abrhsp.org.br/wp-content/uploads/2025/07/banner.png
END:VEVENT
END:VCALENDAR