BEGIN:VCALENDAR
VERSION:2.0
PRODID:-//ABRH-SP - ECPv6.15.20//NONSGML v1.0//EN
CALSCALE:GREGORIAN
METHOD:PUBLISH
X-ORIGINAL-URL:https://abrhsp.org.br
X-WR-CALDESC:Eventos para ABRH-SP
REFRESH-INTERVAL;VALUE=DURATION:PT1H
X-Robots-Tag:noindex
X-PUBLISHED-TTL:PT1H
BEGIN:VTIMEZONE
TZID:America/Sao_Paulo
BEGIN:STANDARD
TZOFFSETFROM:-0300
TZOFFSETTO:-0300
TZNAME:-03
DTSTART:20240101T000000
END:STANDARD
END:VTIMEZONE
BEGIN:VEVENT
DTSTART;TZID=America/Sao_Paulo:20251205T090000
DTEND;TZID=America/Sao_Paulo:20251205T100000
DTSTAMP:20260421T070619
CREATED:20251204T174021Z
LAST-MODIFIED:20251204T174021Z
UID:49097-1764925200-1764928800@abrhsp.org.br
SUMMARY:Dia do Voluntariado: Que dores do RH o voluntariado pode resolver?
DESCRIPTION:Você já parou para pensar como o voluntariado corporativo pode ser uma ferramenta estratégica para o RH da sua empresa? \nNo Dia Internacional do Voluntário\, a ABRH-SP e a Fundação Iochpe convidam você para um webinar especial que vai explorar como programas de voluntariado podem ajudar a resolver desafios reais da gestão de pessoas. \nNossos convidados: \n\nClaudio Anjos – Presidente da Fundação Iochpe\nHaroldo Torres – Economista e Demógrafo\nCélia Almeida – Diretora de Recursos Humanos da Maxion Wheels\n\nJuntos\, eles vão compartilhar experiências práticas\, dados relevantes e insights sobre como o voluntariado pode impactar positivamente o engajamento\, o desenvolvimento de competências\, a cultura organizacional e muito mais. \nEsta é uma oportunidade única de: \n\nEntender o papel estratégico do voluntariado no RH\nConhecer cases de sucesso\nTrocar experiências com especialistas e outros profissionais da área\n\n  \nNão perca essa chance de transformar desafios em oportunidades através do voluntariado!
URL:https://abrhsp.org.br/agenda/dia-do-voluntariado-que-dores-do-rh-o-voluntariado-pode-resolver/
LOCATION:Youtube – @abrhsp1\, https://www.youtube.com/c/abrhsp1/featured\, Brasil
CATEGORIES:ABRH-SP,Webinar
ATTACH;FMTTYPE=image/jpeg:https://abrhsp.org.br/wp-content/uploads/2025/12/whatsapp-image-2025-12-01-at-12-17-33.jpeg
END:VEVENT
BEGIN:VEVENT
DTSTART;TZID=America/Sao_Paulo:20251217T100000
DTEND;TZID=America/Sao_Paulo:20251217T110000
DTSTAMP:20260421T070619
CREATED:20251209T181826Z
LAST-MODIFIED:20251209T181826Z
UID:49128-1765965600-1765969200@abrhsp.org.br
SUMMARY:Webinar RH do zero: Fechamento Inteligente: o que RH e DP precisam acertar em dezembro para começar 2026 no eixo
DESCRIPTION:Você está pronto para fechar 2025 e começar 2026 sem surpresas? \nDezembro não é só o mês das festas — é o mês decisivo para o RH e DP! \nImagine iniciar o ano novo sem retrabalho\, sem pendências e com todos os processos alinhados. Parece impossível? Não quando você sabe exatamente o que precisa acertar agora. \nParticipando deste encontro: \nCati e Tati Castro – As Gêmeas do DP: Duas das maiores referências do Brasil em Departamento Pessoal\, reconhecidas entre os Top 150 Influenciadores do RH Summit e premiadas como Top Voice Metadados. \nFormação de excelência: \n\nPós-graduadas em Direito do Trabalho\nPós-graduadas em Direito Previdenciário\nEspecialistas em Gestão de Departamento Pessoal e Gestão de Pessoas\nCoordenadoras de pós-graduação\, formando profissionais altamente qualificados\n\nElas elevam o nível técnico do DP para um novo patamar\, transformando conhecimento complexo em ações práticas e estratégicas. \nNossa Moderadora: \n\nSilmara Crusca: Executiva de RH e Founder da Eleva DH\, Líder do Comitê de Trabalho da Diretoria de Conhecimento e Governança da ABRH-SP
URL:https://abrhsp.org.br/agenda/webinar-rh-do-zero-fechamento-inteligente-o-que-rh-e-dp-precisam-acertar-em-dezembro-para-comecar-2026-no-eixo/
LOCATION:Youtube – @abrhsp1\, https://www.youtube.com/c/abrhsp1/featured\, Brasil
CATEGORIES:ABRH-SP,Eventos,Webinar
ATTACH;FMTTYPE=image/png:https://abrhsp.org.br/wp-content/uploads/2025/12/sympla.png
END:VEVENT
BEGIN:VEVENT
DTSTART;TZID=America/Sao_Paulo:20251218T183000
DTEND;TZID=America/Sao_Paulo:20251218T200000
DTSTAMP:20260421T070619
CREATED:20251208T195231Z
LAST-MODIFIED:20251211T125851Z
UID:49118-1766082600-1766088000@abrhsp.org.br
SUMMARY:Evento de Finalização 2025 - Grupos de Estudos
DESCRIPTION:Temos o prazer de convidá-lo para o evento de Encerramento dos Grupos de Estudos 2025\, uma iniciativa que promete trazer insights valiosos sobre os desafios da transformação organizacional no cenário atual de RH. \nNesta edição\, contaremos com a participação de Celso Minatel\, executivo sênior da DANONE com 30 anos de experiência em todas as áreas de RH\, incluindo relações trabalhistas\, operações\, remuneração\, benefícios\, talentos e liderança. \nCelso é especialista em CSC e em tecnologia para eficiência em RH\, com sólida carreira em multinacionais dos setores automotivo e alimentício. Atualmente\, lidera Employee Services na Danone Brasil\, com foco em inovação\, governança e experiência do colaborador. \nData: 18 de dezembro de 2025\nHorário: 18h30 às 20h\nFormato: Online\nPúblico: Aberto para associados e não associados
URL:https://abrhsp.org.br/agenda/evento-de-finalizacao-2025-grupos-de-estudos/
LOCATION:Via Zoom
CATEGORIES:ABRH-SP
ATTACH;FMTTYPE=image/png:https://abrhsp.org.br/wp-content/uploads/2025/12/mentores-voluntarios-1.png
END:VEVENT
END:VCALENDAR