BEGIN:VCALENDAR
VERSION:2.0
PRODID:-//ABRH-SP - ECPv6.15.20//NONSGML v1.0//EN
CALSCALE:GREGORIAN
METHOD:PUBLISH
X-ORIGINAL-URL:https://abrhsp.org.br
X-WR-CALDESC:Eventos para ABRH-SP
REFRESH-INTERVAL;VALUE=DURATION:PT1H
X-Robots-Tag:noindex
X-PUBLISHED-TTL:PT1H
BEGIN:VTIMEZONE
TZID:America/Sao_Paulo
BEGIN:STANDARD
TZOFFSETFROM:-0300
TZOFFSETTO:-0300
TZNAME:-03
DTSTART:20250101T000000
END:STANDARD
END:VTIMEZONE
BEGIN:VEVENT
DTSTART;TZID=America/Sao_Paulo:20260211T080000
DTEND;TZID=America/Sao_Paulo:20260211T170000
DTSTAMP:20260421T025843
CREATED:20260211T202008Z
LAST-MODIFIED:20260211T202008Z
UID:49762-1770796800-1770829200@abrhsp.org.br
SUMMARY:RH do Zero: Do improviso à governança: Como estruturar políticas e processos de RH
DESCRIPTION:Tema do próximo RH do Zero: Do improviso à governança: Como estruturar políticas e processos de RH \nVocê está cansada de apagar incêndios no RH? De tomar decisões no “feeling” porque faltam processos claros? \nChegou a hora de sair do improviso e construir um RH profissional\, estratégico e sustentável. \nNo próximo RH do Zero\, vamos falar sobre como transformar a operação do dia a dia em uma área estruturada\, com políticas definidas\, processos documentados e governança que gera credibilidade para o negócio. \nQuem vai conduzir: Áurea Santos — CEO da Escola de RHs e Grupo Luminy\, especialista em RH com mais de 30 anos de experiência em empresas como Peugeot\, Sadia\, Coca-Cola e PepsiCo. Criadora do Método RH Business\, que já formou mais de 4.500 profissionais e gerou R$ 12 milhões em faturamento para suas alunas. \nNossa Moderadora: \n\nSilmara Crusca: Executiva de RH e Founder da Eleva DH\, Líder do Comitê de Trabalho da Diretoria de Conhecimento e Governança da ABRH-SP\n\nSe você quer deixar de improvisar e começar a gerir o RH com método\, clareza e resultado\, esse encontro é para você.
URL:https://abrhsp.org.br/agenda/rh-do-zero-do-improviso-a-governanca-como-estruturar-politicas-e-processos-de-rh/
LOCATION:Youtube – @abrhsp1\, https://www.youtube.com/c/abrhsp1/featured\, Brasil
CATEGORIES:ABRH-SP,Webinar
ATTACH;FMTTYPE=image/png:https://abrhsp.org.br/wp-content/uploads/2026/02/banner.png
END:VEVENT
BEGIN:VEVENT
DTSTART;TZID=America/Sao_Paulo:20260211T083000
DTEND;TZID=America/Sao_Paulo:20260211T110000
DTSTAMP:20260421T025843
CREATED:20260130T173414Z
LAST-MODIFIED:20260130T173414Z
UID:49690-1770798600-1770807600@abrhsp.org.br
SUMMARY:Evento de Abertura dos Grupos de Estudos 2026!
DESCRIPTION:Temos o prazer de convidá-lo para o evento de Abertura dos Grupos de Estudos 2026! \nUma iniciativa que promete trazer insights valiosos sobre os desafios da transformação organizacional no cenário atual de RH. \nTema: Conhecendo e se divertindo! \nConvidado especial: Roberto Caruso é comunicólogo\, pesquisador e especialista em comunicação e comportamento há mais de 30 anos. Criador da GOB – Gestão Organizacional Bioemocional e fundador da ÜMORIZAR\, a primeira produtora artística do Brasil especializada em Humor Design e Humor com Propósito. Sua metodologia promove transformação organizacional por meio da Alegria Essencial\, focando no engajamento e na saúde sustentável dos profissionais. \nFormato híbrido: \nPresencial (Vagas Limitadas)\nAlbert Einstein (Paulista II): Av. Paulista\, 2300\, 3º andar\, Bela Vista\, São Paulo/SP\, Sala 01 – MBA \nOnline:\nTransmissão ao vivo pelo Zoom
URL:https://abrhsp.org.br/agenda/evento-de-abertura-dos-grupos-de-estudos-2026/
LOCATION:Albert Einstein (Paulista II)\, Av. Paulista\, 2300\, 3º andar\, São Paulo\, São Paulo
CATEGORIES:ABRH-SP,Eventos
ATTACH;FMTTYPE=image/png:https://abrhsp.org.br/wp-content/uploads/2026/01/sympla.png
END:VEVENT
BEGIN:VEVENT
DTSTART;TZID=America/Sao_Paulo:20260211T100000
DTEND;TZID=America/Sao_Paulo:20260211T110000
DTSTAMP:20260421T025843
CREATED:20260106T151102Z
LAST-MODIFIED:20260121T202454Z
UID:49217-1770804000-1770807600@abrhsp.org.br
SUMMARY:Webinar RH do Zero: Planejar o RH sem olhar para a cultura é desperdiçar energia e credibilidade
DESCRIPTION:Tema do próximo RH do Zero: Planejar o RH sem olhar para a cultura é desperdiçar energia e credibilidade: Como alinhar cultura\, estratégia e decisões de pessoas em organizações em diferentes estágios \nNeste encontro\, vamos falar sobre um dos maiores erros que organizações cometem: planejar o RH sem olhar para a cultura. E o resultado? Energia desperdiçada\, credibilidade perdida e estratégias que não saem do papel. \nRecebemos Luciene Moreira\, CEO da YUP Consulting\, para uma conversa sobre como alinhar cultura\, estratégia e decisões de pessoas em organizações que estão em diferentes estágios de maturidade. Com quase uma década liderando projetos de transformação cultural em grandes empresas nacionais e internacionais\, Luciene traz uma visão prática e sem romantização sobre o que realmente funciona quando o assunto é cultura organizacional. \nNossa Moderadora: \n\nSilmara Crusca: Executiva de RH e Founder da Eleva DH\, Líder do Comitê de Trabalho da Diretoria de Conhecimento e Governança da ABRH-SP
URL:https://abrhsp.org.br/agenda/em-breve-webinar-rh-do-zero/
LOCATION:Youtube – @abrhsp1\, https://www.youtube.com/c/abrhsp1/featured\, Brasil
CATEGORIES:ABRH-SP,Webinar
ATTACH;FMTTYPE=image/png:https://abrhsp.org.br/wp-content/uploads/2026/01/banner-1.png
END:VEVENT
BEGIN:VEVENT
DTSTART;TZID=America/Sao_Paulo:20260225T150000
DTEND;TZID=America/Sao_Paulo:20260225T190000
DTSTAMP:20260421T025843
CREATED:20251215T181442Z
LAST-MODIFIED:20260204T205958Z
UID:49177-1772031600-1772046000@abrhsp.org.br
SUMMARY:Cerimônia Prêmio Ser Humano
DESCRIPTION:Convidamos você para a Cerimônia de Premiação do Prêmio Ser Humano 2025! \nSua trajetória inspiradora nos trouxe até aqui\, e agora é momento de celebrar juntos todas as conquistas\, histórias e o impacto transformador que cada um de vocês representa. \nData: 25 de fevereiro de 2025 Horário: 15h às 19h Local: Teatro CIEE \nPrepare-se para uma tarde inesquecível\, repleta de emoção\, reconhecimento e celebração! Será uma honra receber você neste momento tão especial. \nSua presença é fundamental para tornar este dia ainda mais memorável!
URL:https://abrhsp.org.br/agenda/cerimonia-premio-ser-humano-2026/
LOCATION:Espaço Sociocultural – Teatro CIEE\, Rua Tabapuã\, 445 - Itaim Bibi\, São Paulo\, São Paulo\, 04533-011\, Brasil
CATEGORIES:ABRH-SP,Eventos,Eventos Especiais,Prêmio Ser Humano
ATTACH;FMTTYPE=image/png:https://abrhsp.org.br/wp-content/uploads/2025/12/sympla-2.png
END:VEVENT
END:VCALENDAR