BEGIN:VCALENDAR
VERSION:2.0
PRODID:-//ABRH-SP - ECPv6.15.20//NONSGML v1.0//EN
CALSCALE:GREGORIAN
METHOD:PUBLISH
X-ORIGINAL-URL:https://abrhsp.org.br
X-WR-CALDESC:Eventos para ABRH-SP
REFRESH-INTERVAL;VALUE=DURATION:PT1H
X-Robots-Tag:noindex
X-PUBLISHED-TTL:PT1H
BEGIN:VTIMEZONE
TZID:America/Sao_Paulo
BEGIN:STANDARD
TZOFFSETFROM:-0300
TZOFFSETTO:-0300
TZNAME:-03
DTSTART:20250101T000000
END:STANDARD
END:VTIMEZONE
BEGIN:VEVENT
DTSTART;TZID=America/Sao_Paulo:20260502T080000
DTEND;TZID=America/Sao_Paulo:20260502T170000
DTSTAMP:20260420T233243
CREATED:20260106T151323Z
LAST-MODIFIED:20260123T132841Z
UID:49221-1777708800-1777741200@abrhsp.org.br
SUMMARY:[Em breve] CHRO Dinner
DESCRIPTION:Em breve mais informações
URL:https://abrhsp.org.br/agenda/em-breve-2o-chro-summit/
CATEGORIES:ABRH-SP
END:VEVENT
BEGIN:VEVENT
DTSTART;TZID=America/Sao_Paulo:20260520T080000
DTEND;TZID=America/Sao_Paulo:20260520T170000
DTSTAMP:20260420T233243
CREATED:20260106T151457Z
LAST-MODIFIED:20260106T151457Z
UID:49225-1779264000-1779296400@abrhsp.org.br
SUMMARY:[Em breve] ABRH-SP na APAS Show
DESCRIPTION:Em breve mais informações
URL:https://abrhsp.org.br/agenda/em-breve-abrh-sp-na-apas-show/
CATEGORIES:ABRH-SP
END:VEVENT
BEGIN:VEVENT
DTSTART;TZID=America/Sao_Paulo:20260520T100000
DTEND;TZID=America/Sao_Paulo:20260520T110000
DTSTAMP:20260420T233243
CREATED:20260106T151413Z
LAST-MODIFIED:20260106T151413Z
UID:49223-1779271200-1779274800@abrhsp.org.br
SUMMARY:[Em breve] Webinar RH do Zero
DESCRIPTION:Em breve mais informações
URL:https://abrhsp.org.br/agenda/em-breve-webinar-rh-do-zero-3/
LOCATION:Youtube – @abrhsp1\, https://www.youtube.com/c/abrhsp1/featured\, Brasil
CATEGORIES:ABRH-SP,Webinar
END:VEVENT
BEGIN:VEVENT
DTSTART;TZID=America/Sao_Paulo:20260526T090000
DTEND;TZID=America/Sao_Paulo:20260526T100000
DTSTAMP:20260420T233243
CREATED:20260402T203114Z
LAST-MODIFIED:20260402T203115Z
UID:50060-1779786000-1779789600@abrhsp.org.br
SUMMARY:Webinar CORHALE e a NR-1
DESCRIPTION:Principais cuidados\, obrigatoriedades e desafios para as empresas \nA NR-1 está no centro das atenções das áreas de RH\, SST e Relações Trabalhistas — e compreender suas exigências é fundamental para mitigar riscos e garantir conformidade. \nNeste webinar\, o CORHALE promove uma análise prática sobre as obrigatoriedades da NR-1\, os principais pontos de atenção e as dificuldades enfrentadas pelas empresas na implementação das exigências normativas. \nA convidada será Maria Lucia Ciampa Benhame Puglisi\, advogada e sócia fundadora do Benhame Advogados\, com ampla atuação em consultoria empresarial trabalhista e sindical. Graduada pela Faculdade de Direito da USP\, é pesquisadora do CNPQ/PUCRS e Diretora-Presidente da APRES – Associação Paulista de Relações e Estudos Sindicais\, além de integrante de comissões da OAB SP e vice-presidente do Comitê de Direito do Trabalho da InterAmerican Bar Association. \n\nA mediação será conduzida por Inês Restier: Diretora da MICR\, Membro do CORHALE e Diretora Financeira da ABRH-SP
URL:https://abrhsp.org.br/agenda/webinar-corhale-e-a-nr-1/
LOCATION:Youtube – @abrhsp1\, https://www.youtube.com/c/abrhsp1/featured\, Brasil
CATEGORIES:ABRH-SP
ATTACH;FMTTYPE=image/png:https://abrhsp.org.br/wp-content/uploads/2026/04/sympla-banner.png
END:VEVENT
END:VCALENDAR