BEGIN:VCALENDAR
VERSION:2.0
PRODID:-//ABRH-SP - ECPv6.15.20//NONSGML v1.0//EN
CALSCALE:GREGORIAN
METHOD:PUBLISH
X-ORIGINAL-URL:https://abrhsp.org.br
X-WR-CALDESC:Eventos para ABRH-SP
REFRESH-INTERVAL;VALUE=DURATION:PT1H
X-Robots-Tag:noindex
X-PUBLISHED-TTL:PT1H
BEGIN:VTIMEZONE
TZID:America/Sao_Paulo
BEGIN:STANDARD
TZOFFSETFROM:-0300
TZOFFSETTO:-0300
TZNAME:-03
DTSTART:20250101T000000
END:STANDARD
END:VTIMEZONE
BEGIN:VEVENT
DTSTART;TZID=America/Sao_Paulo:20260423T083000
DTEND;TZID=America/Sao_Paulo:20260423T103000
DTSTAMP:20260420T212403
CREATED:20260402T200030Z
LAST-MODIFIED:20260402T200030Z
UID:50046-1776933000-1776940200@abrhsp.org.br
SUMMARY:Palestra: Descomplicando a NR-1
DESCRIPTION:A NR-1 passou por atualizações significativas que ampliaram o escopo da gestão de riscos ocupacionais\, e muitas organizações ainda não estão preparadas para o que vem pela frente. \nNeste evento\, dois especialistas de referência se unem para traduzir a norma em linguagem prática: da perspectiva médica à engenharia de segurança\, você vai sair com clareza sobre obrigações\, riscos psicossociais\, ergonomia e gestão de saúde ocupacional integrada. \nUm encontro raro\, com profundidade técnica e foco em aplicação imediata. \nNossos convidados: \n\nDr. Norberto Birmann – Médico com residência na Santa Casa de São Paulo. MBA pelo Coppead e FGV. Gestor Médico e Conselheiro em empresas do setor de saúde. Visão estratégica e clínica integradas.\nEduardo Marcatto – Mestre em SSO pela Universidade de Turim. Engenheiro de Segurança e Ergonomista Sênior Certificado. Diretor Adjunto da ABERGO\, Vice-Presidente da ABRESST e professor de pós-graduação no SENAC e FGV.\n\nUm encontro raro\, com profundidade técnica e foco em aplicação imediata.
URL:https://abrhsp.org.br/agenda/palestra-descomplicando-a-nr-1/
LOCATION:Hotel Serra Jundiaí\, Av. Comend. Gumercindo Barranqueiros\, 80\, Jardim Santa Teresa\, Jundiaí\, São Paulo\, 13211-410\, Brazil
CATEGORIES:ABRH-SP,Eventos
ATTACH;FMTTYPE=image/png:https://abrhsp.org.br/wp-content/uploads/2026/04/banner.png
END:VEVENT
BEGIN:VEVENT
DTSTART;TZID=America/Sao_Paulo:20260429T140000
DTEND;TZID=America/Sao_Paulo:20260429T180000
DTSTAMP:20260420T212403
CREATED:20260327T203330Z
LAST-MODIFIED:20260327T203330Z
UID:50008-1777471200-1777485600@abrhsp.org.br
SUMMARY:Imersão na Ciência do Humor na Liderança
DESCRIPTION:Associados ABRH-SP possuem um desconto exclusivo \nA Imersão Ciência do Humor é uma experiência transformadora que apresenta o humor como uma ferramenta estratégica para o desenvolvimento humano e organizacional. \nRealizada em parceria com a ABRH-SP e a Moodfy Academy\, a imersão propõe uma jornada prática e imersiva\, que conecta ciência\, comportamento e arte para promover ambientes de trabalho mais saudáveis\, engajadores e produtivos. \nMais do que entretenimento\, o humor é explorado como um recurso poderoso para fortalecer relações\, melhorar a comunicação\, reduzir tensões e contribuir na prevenção de riscos psicossociais dentro das organizações. \nAo longo da experiência\, os participantes terão acesso a conteúdos aplicáveis\, reflexões profundas e vivências que ampliam o olhar sobre liderança\, cultura organizacional e bem-estar — tudo isso com uma abordagem leve\, criativa e transformadora. \nSe você busca novas formas de engajar pessoas\, desenvolver equipes e construir ambientes mais humanos e sustentáveis\, esta imersão é para você.
URL:https://abrhsp.org.br/agenda/imersao-na-ciencia-do-humor-na-lideranca/
LOCATION:Sede da ABRH-SP\, Avenida Engenheiro Luiz Carlos Berrini\, 1297 - Cj. 92 - Cidade Monções\, São Paulo\, São Paulo\, 04571-010\, Brasil
CATEGORIES:ABRH-SP
ATTACH;FMTTYPE=image/png:https://abrhsp.org.br/wp-content/uploads/2026/03/pesquisa-de-satisfacao-5.png
END:VEVENT
END:VCALENDAR