BEGIN:VCALENDAR
VERSION:2.0
PRODID:-//ABRH-SP - ECPv6.15.20//NONSGML v1.0//EN
CALSCALE:GREGORIAN
METHOD:PUBLISH
X-ORIGINAL-URL:https://abrhsp.org.br
X-WR-CALDESC:Eventos para ABRH-SP
REFRESH-INTERVAL;VALUE=DURATION:PT1H
X-Robots-Tag:noindex
X-PUBLISHED-TTL:PT1H
BEGIN:VTIMEZONE
TZID:America/Sao_Paulo
BEGIN:STANDARD
TZOFFSETFROM:-0300
TZOFFSETTO:-0300
TZNAME:-03
DTSTART:20230101T000000
END:STANDARD
END:VTIMEZONE
BEGIN:VEVENT
DTSTART;TZID=America/Sao_Paulo:20240715T080000
DTEND;TZID=America/Sao_Paulo:20240719T180000
DTSTAMP:20260422T200547
CREATED:20240313T140953Z
LAST-MODIFIED:20240819T000434Z
UID:41751-1721030400-1721412000@abrhsp.org.br
SUMMARY:5ª semana de TECNOLOGIA E INOVAÇÃO para RH 2024 da ABRH-SP
DESCRIPTION:A semana da transformação digital da ABRH-SP\, agora é Semana de Tecnologia e Inovação para RH. \nUm evento\, que se consolidou como um dos mais importantes no calendário de Recursos Humanos e Tecnologia\, será realizado de 15 a 19 de julho de 2024\, reunindo profissionais\, especialistas e entusiastas da área para uma imersão completa nas últimas tendências e inovações que estão transformando o cenário de RH. \nA 5ª Semana de Tecnologia e Inovação para RH traz uma programação diversificada e de altíssimo nível\, com painéis de discussão e workshops 100% on-line. Vamos explorar como a tecnologia está revolucionando práticas de gestão de pessoas\, desde a automação de processos até a implementação de inteligência artificial para a tomada de decisões mais assertivas. Está é uma oportunidade única para se atualizar sobre as cases de sucesso do setor e ampliar seu conhecimento. \n\nProgramação\n  \nSegunda-feira\, 15 de Julho\nTarde – (17:30 às 19:00)\nPainel de Abertura “Oportunidades e Caminhos para a Transformação Digital do RH” com Antonio Salvador (CHRO e Conselheiro de Empresas)\, Raphael Bozza (iFood) | Moderação: Frederico Lacerda (ABRH-SP Tech/Pin People) \n\nTerça-feira\, 16 de Julho\nManhã – (08:30 às 09:30)\nWebinar “HR Techs – A perspectiva de fundadores sobre o que define sucesso na relação entre startups e empresas” com Alexandre Espinosa (3ClicksRH)\, Cátia Horsts (RHOPEN e USERH) e Rui Brandão (Zenklub) | Moderação: Marcelo Nóbrega (ABRH-SP Tech/Você Está Contratado!) \nTarde – (14:00 às 18:00)\nWorkshop “Letramento Tech para RH: O que você precisa saber para ter sucesso com tecnologia no RH” com Daniel Kobata (ABRH-SP Tech/Apê Real) \n\nQuarta-feira\, 17 de Julho\nManhã – (08:30 às 09:30)\nWebinar “Inteligência Artificial no RH: Casos práticos e reais de como usar IA em Gestão de Pessoas” com Anderson Nabuco (RHeunion) e Michelle Onuki (Gria) | Moderação: Fernando Barra (Skillplace) \nTarde – (14:00 às 18:00)\nWorkshop “People Analytics: Evoluindo a tomada de decisão a partir da cultura de dados em Gestão de Pessoas” com Renan Nishimoto (MINEHR) e Thais Lobato (BTG Pactual) \n\nQuinta-feira\, 18 de Julho\nManhã – (08:30 às 09:30)\nWebinar “Papel\, Perfil e Prontidão da Liderança para Lidar e Liderar a Transformação Digital do RH e da Organização” com Ana Carolina Furtado (ioasys) e Dr. Philipp Zimmermann (Siemens Energy) | Moderação: Davi Bufalo (ABRH-SP Tech) \nTarde – (14:00 às 18:00)\nWorkshop “RH Ágil: Operando como uma startup na transformação digital do RH” com Frederico Lacerda (ABRH-SP Tech/Pin People) \nNoite – (18:00 às 19:30)\nWebinar “Jornada SXSW 2025” com Danilo Dias (ABRH-SP)\, Diogo Oishi (Executivo de RH)\, Frederico Lacerda (ABRH-SP Tech/Pin People)\, Iris Barbosa (ABRH-SP)\, Luiz Eduardo Drouet (ABRH-SP)\, Luis Gustavo (Grou) e Tiago Pereira (Oddly Experience) \n\nSexta-feira\, 19 de Julho\nManhã – (08:30 às 10:00)\nPainel de Encerramento “Lições Aprendidas e Destaques da 5ª Semana de Transformação Digital da ABRH-SP” com Ana Flávia (ABRH-SP)\, Daniel Kobata (ABRH-SP Tech/Apê Real)\, Davi Bufalo (ABRH-SP Tech) e Marcelo Nóbrega (ABRH-SP Tech/Você Está Contratado!) | Moderação: Frederico Lacerda (ABRH-SP Tech/Pin People)
URL:https://abrhsp.org.br/agenda/5o-semana-da-transformacao-digital/
LOCATION:Evento Online
CATEGORIES:ABRH-SP,Cursos,Eventos Especiais,Workshops
ATTACH;FMTTYPE=image/png:https://abrhsp.org.br/wp-content/uploads/2024/03/5a-semana-de-tecnologia-e-inovacao-para-rh-2024-da-abrh-sp.png
END:VEVENT
END:VCALENDAR