BEGIN:VCALENDAR
VERSION:2.0
PRODID:-//ABRH-SP - ECPv6.15.20//NONSGML v1.0//EN
CALSCALE:GREGORIAN
METHOD:PUBLISH
X-WR-CALNAME:ABRH-SP
X-ORIGINAL-URL:https://abrhsp.org.br
X-WR-CALDESC:Eventos para ABRH-SP
REFRESH-INTERVAL;VALUE=DURATION:PT1H
X-Robots-Tag:noindex
X-PUBLISHED-TTL:PT1H
BEGIN:VTIMEZONE
TZID:America/Sao_Paulo
BEGIN:STANDARD
TZOFFSETFROM:-0300
TZOFFSETTO:-0300
TZNAME:-03
DTSTART:20230101T000000
END:STANDARD
END:VTIMEZONE
BEGIN:VEVENT
DTSTART;TZID=America/Sao_Paulo:20240801T080000
DTEND;TZID=America/Sao_Paulo:20240804T180000
DTSTAMP:20260423T023013
CREATED:20240313T143400Z
LAST-MODIFIED:20240723T195945Z
UID:41759-1722499200-1722794400@abrhsp.org.br
SUMMARY:2º Jornada - Missão Hacktown
DESCRIPTION:Prepare-se para a 8ª edição do HackTown\, o festival que transforma o futuro da tecnologia e da sociedade! Entre os dias 1º e 4 de agosto de 2024\, Santa Rita do Sapucaí se tornará o epicentro da inovação\, reunindo mais de 15 mil pessoas para quatro dias intensos de aprendizado\, networking e experiências memoráveis. \nMais de 800 palestras\, shows e workshops te esperam espalhados pela cidade\, abordando uma gama completa de temas relevantes e impactantes. \nA Missão HackTown 2024\, em parceria com a ABRH-SP\, oferece uma oportunidade única para quem deseja participar ativamente do festival e\, se conectar com as últimas tendências e explorar como elas estão moldando o mundo ao nosso redor. \nAs vagas são limitadas! Ficou interessado?! Preencha o formulário e nosso time entrará em contato com você para mais informações sobre a inscrição! \nO que está incluso no pacote de compra com a ABRH-SP: \n\nIngresso para os 4 dias de evento\nHospedagem em Pouso Alegre (cidade vizinha a Santa Rita) de  2 a 4 de agosto\, no Marques Hotel \nTransfer nos dias 2 e 3 de agosto do hotel para o local do evento*\n\n*A ABRH-SP não se responsabiliza pelo transporte dos participantes de sua cidade de origem até o hotel em Pouso Alegre. Apenas com o traslado entre hotel e local do evento nos dias 2 e 3 de agosto.
URL:https://abrhsp.org.br/agenda/2o-jornada-hacktown/
LOCATION:Santa Rita do Sapucai\, Santa Rita do Sapucaí\, Minas Gerais\, Brasil
CATEGORIES:ABRH-SP,Eventos Especiais
ATTACH;FMTTYPE=image/png:https://abrhsp.org.br/wp-content/uploads/2024/03/banner-site-4.png
END:VEVENT
BEGIN:VEVENT
DTSTART;TZID=America/Sao_Paulo:20240815T080000
DTEND;TZID=America/Sao_Paulo:20240815T120000
DTSTAMP:20260423T023013
CREATED:20240625T185056Z
LAST-MODIFIED:20240625T185056Z
UID:42669-1723708800-1723723200@abrhsp.org.br
SUMMARY:Liderança Transformacional: Inspirando as Novas Gerações Rumo ao Sucesso
DESCRIPTION:Em breve mais informações.
URL:https://abrhsp.org.br/agenda/lideranca-transformacional-inspirando-as-novas-geracoes-rumo-ao-sucesso/
LOCATION:A Definir\, Brasil
CATEGORIES:Eventos Especiais
ORGANIZER;CN="ABRH-SP Regional Noroeste Paulista":MAILTO:rnp@abrhsp.org.br
END:VEVENT
END:VCALENDAR