BEGIN:VCALENDAR
VERSION:2.0
PRODID:-//ABRH-SP - ECPv6.15.20//NONSGML v1.0//EN
CALSCALE:GREGORIAN
METHOD:PUBLISH
X-WR-CALNAME:ABRH-SP
X-ORIGINAL-URL:https://abrhsp.org.br
X-WR-CALDESC:Eventos para ABRH-SP
REFRESH-INTERVAL;VALUE=DURATION:PT1H
X-Robots-Tag:noindex
X-PUBLISHED-TTL:PT1H
BEGIN:VTIMEZONE
TZID:America/Sao_Paulo
BEGIN:STANDARD
TZOFFSETFROM:-0300
TZOFFSETTO:-0300
TZNAME:-03
DTSTART:20240101T000000
END:STANDARD
END:VTIMEZONE
BEGIN:VEVENT
DTSTART;TZID=America/Sao_Paulo:20250123T090000
DTEND;TZID=America/Sao_Paulo:20250123T100000
DTSTAMP:20260422T163822
CREATED:20241219T183459Z
LAST-MODIFIED:20250115T132517Z
UID:45499-1737622800-1737626400@abrhsp.org.br
SUMMARY:Webinar: Futuro do Trabalho
DESCRIPTION:Prontos para explorar o futuro do trabalho?\n\nNão perca a chance de se conectar com líderes e especialistas que estão moldando o futuro do mercado! Participe do webinar\, no dia 23 de janeiro\, das 09h às 10h\, e descubra as principais tendências que estão transformando o ambiente corporativo.\n\nPalestrantes Confirmados:\n\n\nDjalma Scartezini – Sócio e COO da Egalite\n\nAline Esteves – Partner Monashees\nIan Nunjara  – Fundador do InstitutoBlack Office Brasil\nCamila Fidélis – Diretora de RH na OLIVER Latin America
URL:https://abrhsp.org.br/agenda/webinar-futuro-do-trabalho/
LOCATION:Evento Online
CATEGORIES:ABRH-SP Regional Avenida Berrini,Eventos Especiais
ATTACH;FMTTYPE=image/png:https://abrhsp.org.br/wp-content/uploads/2024/12/youtube_site.png
ORGANIZER;CN="ABRH-SP Regional Avenida Berrini":MAILTO:regionalberrini@abrhsp.org.br
END:VEVENT
BEGIN:VEVENT
DTSTART;TZID=America/Sao_Paulo:20250128T090000
DTEND;TZID=America/Sao_Paulo:20250128T110000
DTSTAMP:20260422T163822
CREATED:20241217T144531Z
LAST-MODIFIED:20241217T150141Z
UID:45385-1738054800-1738062000@abrhsp.org.br
SUMMARY:Kickoff Aprendizagem & Conhecimento 2025
DESCRIPTION:Participe do Kickoff de Aprendizagem & Conhecimento 2025! Você terá a oportunidade de conhecer um pouco mais sobre as iniciativas de desenvolvimento oferecidas pela ABRH-SP\, além de ouvir um especialista em conhecimento abordando a importância do aprendizado para todas as pessoas. \nConfira a programação: \n09h00 – 09h10: Abertura do Evento com César Bresciani (Diretor de Conhecimento da ABRH-SP) \n09h10 – 09h30: Apresentação do calendário 2025 & iniciativas da área de Conhecimento com Eliana Mota (Gerente de Conhecimento e Aprendizagem da ABRH-SP) e Roberta Nunes Barbosa (Gerente Executiva de Regionais da ABRH-SP) \n09h30 – 10h30: Palestra “Lifelong Learning na Prática: O Poder do Aprendizado Contínuo” com Conrado Schlochauer (Fundador e membro da nōvi) \n10h30 – 11h00: Perguntas e Respostas
URL:https://abrhsp.org.br/agenda/kickoff-aprendizagem-conhecimento-2025/
LOCATION:Evento Online
CATEGORIES:ABRH-SP,Eventos Especiais
ATTACH;FMTTYPE=image/png:https://abrhsp.org.br/wp-content/uploads/2024/12/banner.png
END:VEVENT
END:VCALENDAR