BEGIN:VCALENDAR
VERSION:2.0
PRODID:-//ABRH-SP - ECPv6.15.20//NONSGML v1.0//EN
CALSCALE:GREGORIAN
METHOD:PUBLISH
X-ORIGINAL-URL:https://abrhsp.org.br
X-WR-CALDESC:Eventos para ABRH-SP
REFRESH-INTERVAL;VALUE=DURATION:PT1H
X-Robots-Tag:noindex
X-PUBLISHED-TTL:PT1H
BEGIN:VTIMEZONE
TZID:America/Sao_Paulo
BEGIN:STANDARD
TZOFFSETFROM:-0300
TZOFFSETTO:-0300
TZNAME:-03
DTSTART:20240101T000000
END:STANDARD
END:VTIMEZONE
BEGIN:VEVENT
DTSTART;TZID=America/Sao_Paulo:20251009T130000
DTEND;TZID=America/Sao_Paulo:20251009T190000
DTSTAMP:20260421T221212
CREATED:20250820T165343Z
LAST-MODIFIED:20250820T173709Z
UID:47885-1760014800-1760036400@abrhsp.org.br
SUMMARY:4ª Gente & Gestão da ABRH-SP
DESCRIPTION:Gratuito para Associados ABRH-SP \nPrepare-se para a 4ª Gente & Gestão da ABRH-SP – Regional Vale do Paraíba! \nEm um cenário de constantes transformações\, o papel do RH se reinventa\, mais estratégico\, mais humano\, mais conectado com o futuro. Com o tema “Humanizar\, Inovar e Evoluir: o novo papel do RH no futuro do trabalho”\, esta edição chega com uma programação rica em palestras e debates de alto impacto\, abordando os temas mais relevantes para quem lidera pessoas e transforma organizações. \nAlém do conteúdo de excelência\, o evento também será um espaço para networking qualificado\, com a presença de especialistas\, líderes e profissionais de diversos segmentos. Você também poderá conhecer soluções e tecnologias que estão moldando o presente e o futuro da gestão de pessoas. \nParticipe dessa experiência que une conhecimento\, conexão e evolução.O futuro do trabalho começa aqui e ele passa pelo RH. \nData: 09 de Outubro  \nHorário: 13h00 às 19h00 \nLocal: PIT – Parque de Inovação Tecnológica São José dos Campos:  Av. Doutor Altino Bondesan\, 500 Distrito de Eugênio de Melo\, São José dos Campos – SP
URL:https://abrhsp.org.br/agenda/4a-gente-gestao-da-abrh-sp/
LOCATION:Parque Tecnológico São José dos Campos\, Estrada Dr. Altino Bondensan\, 500 - Eugênio de Melo\,\, São José dos Campos\, São Paulo\, 12247-016\, Brasil
CATEGORIES:Eventos Especiais,Regional Vale do Paraiba
ATTACH;FMTTYPE=image/jpeg:https://abrhsp.org.br/wp-content/uploads/2025/08/sympla-1.jpg
END:VEVENT
END:VCALENDAR