BEGIN:VCALENDAR
VERSION:2.0
PRODID:-//ABRH-SP - ECPv6.15.20//NONSGML v1.0//EN
CALSCALE:GREGORIAN
METHOD:PUBLISH
X-ORIGINAL-URL:https://abrhsp.org.br
X-WR-CALDESC:Eventos para ABRH-SP
REFRESH-INTERVAL;VALUE=DURATION:PT1H
X-Robots-Tag:noindex
X-PUBLISHED-TTL:PT1H
BEGIN:VTIMEZONE
TZID:America/Sao_Paulo
BEGIN:STANDARD
TZOFFSETFROM:-0300
TZOFFSETTO:-0300
TZNAME:-03
DTSTART:20230101T000000
END:STANDARD
END:VTIMEZONE
BEGIN:VEVENT
DTSTART;TZID=America/Sao_Paulo:20240620T080000
DTEND;TZID=America/Sao_Paulo:20240620T180000
DTSTAMP:20260423T021822
CREATED:20240313T140513Z
LAST-MODIFIED:20240313T140513Z
UID:41749-1718870400-1718906400@abrhsp.org.br
SUMMARY:9ª Edição LIFE - Liderança Feminina em Movimento
DESCRIPTION:Em breve mais informações.
URL:https://abrhsp.org.br/agenda/9a-edicao-life-lideranca-feminina-em-movimento/
LOCATION:Hotel Pullman\, Rua Olimpíadas\, 205 Vila Olímpia São Paulo\, SP\, São Paulo\, SP\, 04551-000\, Brasil
CATEGORIES:ABRH-SP,FÓRUM,LIDERANÇA FEMININA
END:VEVENT
END:VCALENDAR