BEGIN:VCALENDAR
VERSION:2.0
PRODID:-//ABRH-SP - ECPv6.15.20//NONSGML v1.0//EN
CALSCALE:GREGORIAN
METHOD:PUBLISH
X-ORIGINAL-URL:https://abrhsp.org.br
X-WR-CALDESC:Eventos para ABRH-SP
REFRESH-INTERVAL;VALUE=DURATION:PT1H
X-Robots-Tag:noindex
X-PUBLISHED-TTL:PT1H
BEGIN:VTIMEZONE
TZID:America/Sao_Paulo
BEGIN:STANDARD
TZOFFSETFROM:-0300
TZOFFSETTO:-0300
TZNAME:-03
DTSTART:20230101T000000
END:STANDARD
END:VTIMEZONE
BEGIN:VEVENT
DTSTART;TZID=America/Sao_Paulo:20240807T090000
DTEND;TZID=America/Sao_Paulo:20240807T110000
DTSTAMP:20260423T150955
CREATED:20240625T184647Z
LAST-MODIFIED:20240625T184647Z
UID:42663-1723021200-1723028400@abrhsp.org.br
SUMMARY:Life Talk - Regional Avenida Paulista
DESCRIPTION:Em breve mais informações.
URL:https://abrhsp.org.br/agenda/life-talk-regional-avenida-paulista/
LOCATION:A Definir\, Brasil
CATEGORIES:ABRH-SP Regional Avenida Paulista,LIDERANÇA FEMININA
END:VEVENT
END:VCALENDAR