BEGIN:VCALENDAR
VERSION:2.0
PRODID:-//ABRH-SP - ECPv6.15.20//NONSGML v1.0//EN
CALSCALE:GREGORIAN
METHOD:PUBLISH
X-ORIGINAL-URL:https://abrhsp.org.br
X-WR-CALDESC:Eventos para ABRH-SP
REFRESH-INTERVAL;VALUE=DURATION:PT1H
X-Robots-Tag:noindex
X-PUBLISHED-TTL:PT1H
BEGIN:VTIMEZONE
TZID:America/Sao_Paulo
BEGIN:STANDARD
TZOFFSETFROM:-0300
TZOFFSETTO:-0300
TZNAME:-03
DTSTART:20240101T000000
END:STANDARD
END:VTIMEZONE
BEGIN:VEVENT
DTSTART;TZID=America/Sao_Paulo:20250312T083000
DTEND;TZID=America/Sao_Paulo:20250312T120000
DTSTAMP:20260423T020751
CREATED:20250227T191411Z
LAST-MODIFIED:20250307T150043Z
UID:46228-1741768200-1741780800@abrhsp.org.br
SUMMARY:Life Talk - Empoderamento Feminino através da Educação Financeira | Posse Diretoria Regional Noroeste Paulista
DESCRIPTION:Participe do Life Talk e a Posse da Diretoria ABRH-SP Regional Noroeste Paulista! Será um momento de muita inspiração\, troca de ideias e celebração. \nContamos com a presença de Jaciani Cristina Rizzioli  (Diretora de RH do Grupo Savenhago| Vice Diretora ABRH-SP Regioanal Noroeste paulista)\, Viviane Midori Kadawoki (Gerente de Gestão de Pessoas do SICOOB SP | Diretora de Responsabilidade Social e DEI da ABRH-SP Regional Noroeste Paulista)\, Rita Brito (Consultora de Gente e Gestão |Diretora Regional ABRH-SP Regional Noroeste Paulista) e Roberta Nunes Barbosa (Gerente de Regionais da ABRH-SP) \nVenha fazer parte desse evento imperdível\, onde teremos grandes discussões e a formalização dos novos líderes \nSua presença é essencial!
URL:https://abrhsp.org.br/agenda/life-talk-empoderamento-feminino-atraves-da-educacao-financeira-posse-diretoria-regional-noroeste-paulista/
LOCATION:Agência Sicoob | Dabi Business Park\, Rua General Augusto Soares dos Santos\, 100 Parque Industrial Lagoinha\, Ribeirão Preto\, São Paulo\, 14095-240\, Brazil
CATEGORIES:LIDERANÇA FEMININA,Regional Noroeste Paulista
ATTACH;FMTTYPE=image/jpeg:https://abrhsp.org.br/wp-content/uploads/2025/02/sympla.jpg
ORGANIZER;CN="ABRH-SP Regional Noroeste Paulista":MAILTO:rnp@abrhsp.org.br
END:VEVENT
END:VCALENDAR