BEGIN:VCALENDAR
VERSION:2.0
PRODID:-//ABRH-SP - ECPv6.15.20//NONSGML v1.0//EN
CALSCALE:GREGORIAN
METHOD:PUBLISH
X-ORIGINAL-URL:https://abrhsp.org.br
X-WR-CALDESC:Eventos para ABRH-SP
REFRESH-INTERVAL;VALUE=DURATION:PT1H
X-Robots-Tag:noindex
X-PUBLISHED-TTL:PT1H
BEGIN:VTIMEZONE
TZID:America/Sao_Paulo
BEGIN:STANDARD
TZOFFSETFROM:-0300
TZOFFSETTO:-0300
TZNAME:-03
DTSTART:20240101T000000
END:STANDARD
END:VTIMEZONE
BEGIN:VEVENT
DTSTART;TZID=America/Sao_Paulo:20250529T090000
DTEND;TZID=America/Sao_Paulo:20250529T100000
DTSTAMP:20260419T113816
CREATED:20250516T230540Z
LAST-MODIFIED:20250516T230540Z
UID:47225-1748509200-1748512800@abrhsp.org.br
SUMMARY:Webinar: Felicidade no Trabalho - Tendências Globais e a Realidade Brasileira
DESCRIPTION:No dia 29 de maio\, realizaremos o webinar de lançamento do 3º Relatório Mundial sobre Felicidade no Trabalho\, um estudo conduzido pela World Happiness Foundation em parceria com a Happyforce\, com apoio da ABRH-SP. A pesquisa\, que contou com 2.700 participantes\, investiga a interconexão entre felicidade e emprego ao redor do mundo. No evento\, traremos um panorama com os principais insights globais e um recorte especial com os dados brasileiros. Será uma oportunidade valiosa para refletir sobre o papel da felicidade como estratégia de gestão\, cultura organizacional e bem-estar nas empresas. Líderes\, profissionais de RH e estudiosos poderão acessar\, em primeira mão\, os achados mais relevantes para promover ambientes de trabalho mais humanos\, saudáveis e sustentáveis. \nConvidados: \n– Sergio Cancelo (Chief Happiness Officer e Co-fundador da Happyforce) \n– Miguel Nisembaum (Sócio da Mapa de Talentos e Gestor da Lider Academy) \n– Eliana Pinto (Especialista em Aprendizagem\, Liderança Humanizada e Felicidade no Trabalho.) \nModeração:  \n– Edna Bedani (Mentora\, Professora e Presidente do Conselho Deliberativo da ABRH-SP)
URL:https://abrhsp.org.br/agenda/webinar-felicidade-no-trabalho-tendencias-globais-e-a-realidade-brasileira/
LOCATION:Evento Online
CATEGORIES:ABRH-SP,Webinar
ATTACH;FMTTYPE=image/png:https://abrhsp.org.br/wp-content/uploads/2025/05/youtube.png
END:VEVENT
END:VCALENDAR